BEGIN:VCALENDAR
VERSION:2.0
PRODID:-//ExpressionEngine Easy iCalendar plugin//NONSGML v2.0.0//EN
X-WR-TIMEZONE:America/Juneau
X-WR-CALNAME:Upcoming Auctions
BEGIN:VEVENT
UID:160415
DTSTAMP:20260419T200000
DTSTART:20260419T200000
DTEND:20260425T190000
SUMMARY:Springtime Finds
LOCATION:816 28th Ave\, Fairbanks\, AK 99701\, US
DESCRIPTION:Discover the treasures that you have been looking for!
URL:https://www.lastfrontierauction.com/auctions/detail/bw160415
SEQUENCE:1
END:VEVENT
END:VCALENDAR