BEGIN:VCALENDAR
VERSION:2.0
PRODID:-//ExpressionEngine Easy iCalendar plugin//NONSGML v2.0.0//EN
X-WR-TIMEZONE:America/Juneau
X-WR-CALNAME:Upcoming Auctions
BEGIN:VEVENT
UID:160416
DTSTAMP:20260419T200000
DTSTART:20260419T200000
DTEND:20260427T190000
SUMMARY:Blue Moose Storage - April
LOCATION:1015 30th Ave\, Fairbanks\, AK 99701\, US
DESCRIPTION:Four storage units available for STORAGE WARS! Bid\, Discover
  and Win....
URL:https://www.lastfrontierauction.com/auctions/detail/bw160416
SEQUENCE:1
END:VEVENT
END:VCALENDAR